BEGIN:VCALENDAR
VERSION:2.0
PRODID:-//AOAO Waikiki Sunset - ECPv6.13.2.1//NONSGML v1.0//EN
CALSCALE:GREGORIAN
METHOD:PUBLISH
X-WR-CALNAME:AOAO Waikiki Sunset
X-ORIGINAL-URL:https://aoaowaikikisunset.com
X-WR-CALDESC:Events for AOAO Waikiki Sunset
REFRESH-INTERVAL;VALUE=DURATION:PT1H
X-Robots-Tag:noindex
X-PUBLISHED-TTL:PT1H
BEGIN:VTIMEZONE
TZID:Pacific/Honolulu
BEGIN:STANDARD
TZOFFSETFROM:-1000
TZOFFSETTO:-1000
TZNAME:HST
DTSTART:20250101T000000
END:STANDARD
END:VTIMEZONE
BEGIN:VEVENT
DTSTART;TZID=Pacific/Honolulu:20251203T080000
DTEND;TZID=Pacific/Honolulu:20251203T170000
DTSTAMP:20260423T071137
CREATED:20251118T020218Z
LAST-MODIFIED:20251118T020218Z
UID:4027-1764748800-1764781200@aoaowaikikisunset.com
SUMMARY:Trash Chute Cleaning
DESCRIPTION:
URL:https://aoaowaikikisunset.com/event/trash-chute-cleaning-2/
END:VEVENT
BEGIN:VEVENT
DTSTART;TZID=Pacific/Honolulu:20251211T090000
DTEND;TZID=Pacific/Honolulu:20251211T110000
DTSTAMP:20260423T071137
CREATED:20250927T014055Z
LAST-MODIFIED:20251210T201500Z
UID:4006-1765443600-1765450800@aoaowaikikisunset.com
SUMMARY:Board of Directors Meeting
DESCRIPTION:Meeting will be held via Video Conference \nThe Association will be using ZOOM for all future Board Meetings. \nPlease use the following link: \nhttps://zoom.us \nGo to “Join Meeting” \nEnter Meeting ID # 828-9841-1788 \nYou may also download the ZOOM app for ios and Android platforms. \nFor the App: \nMeeting ID # 828-9841-1788 \nWe ask that all owners begin to check in at 8:45am \nPlease identify yourself with your name and unit number \nYou will have to contact the Association Office for the passcode for both applications. \n(808)931-6077 \nMahalo! \nI – Notice Agenda – 2025.12.11 (003)
URL:https://aoaowaikikisunset.com/event/board-of-directors-meeting-36/
END:VEVENT
END:VCALENDAR