BEGIN:VCALENDAR
VERSION:2.0
PRODID:-//AOAO Waikiki Sunset - ECPv6.13.2.1//NONSGML v1.0//EN
CALSCALE:GREGORIAN
METHOD:PUBLISH
X-WR-CALNAME:AOAO Waikiki Sunset
X-ORIGINAL-URL:https://aoaowaikikisunset.com
X-WR-CALDESC:Events for AOAO Waikiki Sunset
REFRESH-INTERVAL;VALUE=DURATION:PT1H
X-Robots-Tag:noindex
X-PUBLISHED-TTL:PT1H
BEGIN:VTIMEZONE
TZID:Pacific/Honolulu
BEGIN:STANDARD
TZOFFSETFROM:-1000
TZOFFSETTO:-1000
TZNAME:HST
DTSTART:20230101T000000
END:STANDARD
END:VTIMEZONE
BEGIN:VEVENT
DTSTART;TZID=Pacific/Honolulu:20230815T080000
DTEND;TZID=Pacific/Honolulu:20230815T170000
DTSTAMP:20260425T013646
CREATED:20230801T230525Z
LAST-MODIFIED:20230801T230609Z
UID:3268-1692086400-1692118800@aoaowaikikisunset.com
SUMMARY:**Building Power Outage**
DESCRIPTION:Power Outage Notice 08.15.23-08.18.2023 FNL
URL:https://aoaowaikikisunset.com/event/building-power-outage/
END:VEVENT
BEGIN:VEVENT
DTSTART;TZID=Pacific/Honolulu:20230821T080000
DTEND;TZID=Pacific/Honolulu:20230821T170000
DTSTAMP:20260425T013646
CREATED:20230801T230730Z
LAST-MODIFIED:20230801T230748Z
UID:3274-1692604800-1692637200@aoaowaikikisunset.com
SUMMARY:**Notice of Power Outages 8/21/2023-8/25/2023**
DESCRIPTION:Waikiki Sunset Power Outage Notice 08.21.23-08.25.2023 FNL
URL:https://aoaowaikikisunset.com/event/notice-of-power-outages-8-21-2023-8-25-2023/
END:VEVENT
BEGIN:VEVENT
DTSTART;TZID=Pacific/Honolulu:20230824T090000
DTEND;TZID=Pacific/Honolulu:20230824T110000
DTSTAMP:20260425T013646
CREATED:20230801T224627Z
LAST-MODIFIED:20230821T212357Z
UID:3265-1692867600-1692874800@aoaowaikikisunset.com
SUMMARY:**Board of Directors Meeting**
DESCRIPTION:Meeting will be held via Video Conference \nThe Association will be using ZOOM for all future Board Meetings. \nPlease use the following link: \nhttps://zoom.us \nGo to “Join Meeting” \nEnter Meeting ID # 838-7118-2042 \nYou may also download the ZOOM app for ios and Android platforms. \nFor the App: \nMeeting ID # 838-7118-2042 \nWe ask that all owners begin to check in at 8:45am \nPlease identify yourself with your name and unit number \nYou will have to contact the Association Office for the passcode for both applications. \n(808)931-6077 \nMahalo! \n1 -Notice and Agenda – 2023.08.24
URL:https://aoaowaikikisunset.com/event/board-of-directors-meeting-11/
END:VEVENT
BEGIN:VEVENT
DTSTART;TZID=Pacific/Honolulu:20230828T080000
DTEND;TZID=Pacific/Honolulu:20230828T170000
DTSTAMP:20260425T013646
CREATED:20230801T230936Z
LAST-MODIFIED:20230801T230936Z
UID:3276-1693209600-1693242000@aoaowaikikisunset.com
SUMMARY:**Notice of Power Outages - 8/28/23-9/01/23**
DESCRIPTION:Waikiki Sunset Power Outage Notice 08.28.23-09.01.2023 FNL
URL:https://aoaowaikikisunset.com/event/notice-of-power-outages-8-28-23-9-01-23/
END:VEVENT
END:VCALENDAR