BEGIN:VCALENDAR
VERSION:2.0
PRODID:-//AOAO Waikiki Sunset - ECPv6.13.2.1//NONSGML v1.0//EN
CALSCALE:GREGORIAN
METHOD:PUBLISH
X-ORIGINAL-URL:https://aoaowaikikisunset.com
X-WR-CALDESC:Events for AOAO Waikiki Sunset
REFRESH-INTERVAL;VALUE=DURATION:PT1H
X-Robots-Tag:noindex
X-PUBLISHED-TTL:PT1H
BEGIN:VTIMEZONE
TZID:Pacific/Honolulu
BEGIN:STANDARD
TZOFFSETFROM:-1000
TZOFFSETTO:-1000
TZNAME:HST
DTSTART:20230101T000000
END:STANDARD
END:VTIMEZONE
BEGIN:VEVENT
DTSTART;TZID=Pacific/Honolulu:20230525T090000
DTEND;TZID=Pacific/Honolulu:20230525T110000
DTSTAMP:20260425T053910
CREATED:20230111T191438Z
LAST-MODIFIED:20230522T213540Z
UID:3151-1685005200-1685012400@aoaowaikikisunset.com
SUMMARY:**Board of Directors Meeting**
DESCRIPTION:The Association will be using ZOOM for all future Board Meetings. \nPlease use the following link: \nhttps://zoom.us \nGo to “Join Meeting” \nEnter Meeting ID # 896-6499-9348 \nYou may also download the ZOOM app for ios and Android platforms. \nFor the App: \nMeeting ID # 896-6499-9348 \nWe ask that all owners begin to check in at 8:45am \nPlease identify yourself with your name and unit number \nYou will have to contact the Association Office for the passcode for both applications. \n(808)931-6077 \nMahalo! \nhttps://aoaowaikikisunset.com/wp-content/uploads/_mediavault/2023/05/I-Notice-and-Agenda-2023.05.25.pdf
URL:https://aoaowaikikisunset.com/event/board-of-directors-meeting-9/
END:VEVENT
END:VCALENDAR