BEGIN:VCALENDAR
VERSION:2.0
PRODID:-//AOAO Waikiki Sunset - ECPv6.13.2.1//NONSGML v1.0//EN
CALSCALE:GREGORIAN
METHOD:PUBLISH
X-WR-CALNAME:AOAO Waikiki Sunset
X-ORIGINAL-URL:https://aoaowaikikisunset.com
X-WR-CALDESC:Events for AOAO Waikiki Sunset
REFRESH-INTERVAL;VALUE=DURATION:PT1H
X-Robots-Tag:noindex
X-PUBLISHED-TTL:PT1H
BEGIN:VTIMEZONE
TZID:Pacific/Honolulu
BEGIN:STANDARD
TZOFFSETFROM:-1000
TZOFFSETTO:-1000
TZNAME:HST
DTSTART:20200101T000000
END:STANDARD
END:VTIMEZONE
BEGIN:VEVENT
DTSTART;TZID=Pacific/Honolulu:20230126T090000
DTEND;TZID=Pacific/Honolulu:20230126T110000
DTSTAMP:20260425T003234
CREATED:20230103T224149Z
LAST-MODIFIED:20230120T213109Z
UID:3139-1674723600-1674730800@aoaowaikikisunset.com
SUMMARY:**Board of Directors Meeting**
DESCRIPTION:Meeting will be held via Video Conference \nThe Association will be using ZOOM for all future Board Meetings. \nPlease use the following link: \nhttps://zoom.us \nGo to “Join Meeting” \nEnter Meeting ID # 864-6280-4827 \nYou may also download the ZOOM app for ios and Android platforms. \nFor the App: \nMeeting ID # 864-6280-4827 \nWe ask that all owners begin to check in at 8:45am \nPlease identify yourself with your name and unit number \nYou will have to contact the Association Office for the passcode for both applications. \n(808)931-6077 \nMahalo! \nhttps://aoaowaikikisunset.com/wp-content/uploads/_mediavault/2023/01/1-Notice-and-Agenda-2023.01.26.pdf
URL:https://aoaowaikikisunset.com/event/board-of-directors-meeting-5/
END:VEVENT
BEGIN:VEVENT
DTSTART;TZID=Pacific/Honolulu:20221217T100000
DTEND;TZID=Pacific/Honolulu:20221217T113000
DTSTAMP:20260425T003234
CREATED:20221215T010206Z
LAST-MODIFIED:20221215T010454Z
UID:3118-1671271200-1671276600@aoaowaikikisunset.com
SUMMARY:**Townhall Meeting - Electrical Distribution Project**
DESCRIPTION:December 14\, 2022 \n  \nAloha Waikiki Sunset Owners ~ \n  \nThis Saturday\, December 17\, 2022 at 10:00am we will be having a Townhall Meeting for our upcoming Electrical Distribution Project\, which will be starting in the later half of January 2023. \n  \nAmerican Electric has been hired to complete the project with Bergeman Group as our overall Construction Management advisor. We will look forward to your attendance. \n  \nThe meeting will be held via Zoom\, please see meeting ID and Passcode below: \n  \nMeeting ID: 841-6037-0083 \nPasscode: 350662 \n  \n  \nSincerely\, \n  \nThe Waikiki Sunset Association Office \n  \n2022年12月14日 \n  \nアロハ ワイキキサンセットのオーナーの皆様 \n  \n2022年12月17日（土）午前10時より、2023年1月後半から始まる配電プロジェクトのタウンホールミーティングが開催されます。 \n  \n本プロジェクトは、建設経営管理（CM）全般のアドバイザーを務めるバーグマングループ社とともにアメリカン・エレクトリック社が担当します。皆様のタウンホールミーティングへのご参加をお待ちしております。 \n  \nミーティングはZoomで行いますので、以下のIDとパスコードをご確認ください。 \n  \nミーティングID： 841-6037-0083 \nパスコード： 350662 \n  \nよろしくお願いいたします。 \n  \nワイキキサンセット所有者組合事務所
URL:https://aoaowaikikisunset.com/event/townhall-meeting-electrical-distribution-project/
END:VEVENT
BEGIN:VEVENT
DTSTART;TZID=Pacific/Honolulu:20221117T090000
DTEND;TZID=Pacific/Honolulu:20221117T110000
DTSTAMP:20260425T003234
CREATED:20221110T220155Z
LAST-MODIFIED:20221110T220321Z
UID:3099-1668675600-1668682800@aoaowaikikisunset.com
SUMMARY:**Board Meeting**
DESCRIPTION:Meeting will be held via Video Conference \nThe Association will be using ZOOM for all future Board Meetings. \nPlease use the following link: \nhttps://zoom.us \nGo to “Join Meeting” \nEnter Meeting ID # 816-5110-7640 \nYou may also download the ZOOM app for ios and Android platforms. \nFor the App: \nMeeting ID # 816-5110-7640 \nWe ask that all owners begin to check in at 8:45am \nPlease identify yourself with your name and unit number \nYou will have to contact the Association Office for the passcode for both applications. \n(808)931-6077 \nMahalo! \nhttps://aoaowaikikisunset.com/wp-content/uploads/_mediavault/2022/11/2792-BOD-Meeting-Notice-Agenda-11.17.2022.pdf
URL:https://aoaowaikikisunset.com/event/board-meeting-8/
END:VEVENT
BEGIN:VEVENT
DTSTART;TZID=Pacific/Honolulu:20221027T090000
DTEND;TZID=Pacific/Honolulu:20221027T110000
DTSTAMP:20260425T003234
CREATED:20221004T015352Z
LAST-MODIFIED:20221027T000215Z
UID:3038-1666861200-1666868400@aoaowaikikisunset.com
SUMMARY:**Board Meeting**
DESCRIPTION:Meeting will be held via Video Conference \nThe Association will be using ZOOM for all future Board Meetings. \nPlease use the following link: \nhttps://zoom.us \nGo to “Join Meeting” \nEnter Meeting ID # 811-0224-6375 \nYou may also download the ZOOM app for ios and Android platforms. \nFor the App: \nMeeting ID # 811-0224-6375 \nWe ask that all owners begin to check in at 8:45am \nPlease identify yourself with your name and unit number \nYou will have to contact the Association Office for the passcode for both applications. \n(808)931-6077 \nMahalo! \n2792 – Mtg Agenda 2022.10.27
URL:https://aoaowaikikisunset.com/event/board-meeting-7/
END:VEVENT
BEGIN:VEVENT
DTSTART;TZID=Pacific/Honolulu:20220907T074500
DTEND;TZID=Pacific/Honolulu:20220907T094500
DTSTAMP:20260425T003234
CREATED:20220903T013230Z
LAST-MODIFIED:20220903T013609Z
UID:3020-1662536700-1662543900@aoaowaikikisunset.com
SUMMARY:**Special Board Of Directors Meeting**
DESCRIPTION:Meeting will be held via Video Conference \nThe Association will be using ZOOM for all future Board Meetings. \nPlease use the following link: \nhttps://zoom.us \nGo to “Join Meeting” \nEnter Meeting ID # 869-9280-7717 \nYou may also download the ZOOM app for ios and Android platforms. \nFor the App: \nMeeting ID # 869-9280-7717 \nWe ask that all owners begin to check in at 7:30am \nPlease identify yourself with your name and unit number \nYou will have to contact the Association Office for the passcode for both applications. \n(808)931-6077 \nMahalo! \n2792 Special BOD Mtg Ntc Agenda 2022.09.07
URL:https://aoaowaikikisunset.com/event/special-board-of-directors-meeting/
END:VEVENT
BEGIN:VEVENT
DTSTART;TZID=Pacific/Honolulu:20220825T090000
DTEND;TZID=Pacific/Honolulu:20220825T110000
DTSTAMP:20260425T003234
CREATED:20220722T183241Z
LAST-MODIFIED:20220820T005627Z
UID:2989-1661418000-1661425200@aoaowaikikisunset.com
SUMMARY:**Board Meeting**
DESCRIPTION:Meeting will be held via Video Conference \nThe Association will be using ZOOM for all future Board Meetings. \nPlease use the following link: \nhttps://zoom.us \nGo to “Join Meeting” \nEnter Meeting ID # 846-9071-3646 \nYou may also download the ZOOM app for ios and Android platforms. \nFor the App: \nMeeting ID # 846-9071-3646 \nWe ask that all owners begin to check in at 8:45am \nPlease identify yourself with your name and unit number \nYou will have to contact the Association Office for the passcode for both applications. \n(808)931-6077 \nMahalo! \nhttps://aoaowaikikisunset.com/wp-content/uploads/_mediavault/2022/08/I-Mtg-Agenda-2022.08.25.pdf
URL:https://aoaowaikikisunset.com/event/board-of-directors-meeting-4/
END:VEVENT
BEGIN:VEVENT
DTSTART;TZID=Pacific/Honolulu:20220721T090000
DTEND;TZID=Pacific/Honolulu:20220721T110000
DTSTAMP:20260425T003234
CREATED:20220623T235346Z
LAST-MODIFIED:20220716T012757Z
UID:2963-1658394000-1658401200@aoaowaikikisunset.com
SUMMARY:**Board Meeting**
DESCRIPTION:Meeting will be held via Video Conference \nThe Association will be using ZOOM for all future Board Meetings. \nPlease use the following link: \nhttps://zoom.us \nGo to “Join Meeting” \nEnter Meeting ID # 819-8804-3560 \nYou may also download the ZOOM app for ios and Android platforms. \nFor the App: \nMeeting ID # 819-8804-3560 \nWe ask that all owners begin to check in at 8:45am \nYou will have to contact the Association Office for the passcode for both applications. \n(808)931-6077 \nMahalo! \nhttps://aoaowaikikisunset.com/wp-content/uploads/_mediavault/2022/07/SUN-BOD-Meeting-Agenda-07.21.2022.pdf
URL:https://aoaowaikikisunset.com/event/board-meeting-6/
END:VEVENT
BEGIN:VEVENT
DTSTART;TZID=Pacific/Honolulu:20220623T090000
DTEND;TZID=Pacific/Honolulu:20220623T230000
DTSTAMP:20260425T003234
CREATED:20220517T030416Z
LAST-MODIFIED:20220623T015336Z
UID:2935-1655974800-1656025200@aoaowaikikisunset.com
SUMMARY:**Board Meeting**
DESCRIPTION:Meeting will be held via Video Conference \nThe Association will be using ZOOM for all future Board Meetings. \nPlease use the following link: \nhttps://zoom.us \nGo to “Join Meeting” \nEnter Meeting ID # 867-1992-8313 \nYou may also download the ZOOM app for ios and Android platforms. \nFor the App: \nMeeting ID # 867-1992-8313 \nWe ask that all owners begin to check in at 8:45am \nYou will have to contact the Association Office for the passcode for both applications. \n(808)931-6077 \nMahalo! \n2792 – Mtg Agenda 2022.06.23 (003)
URL:https://aoaowaikikisunset.com/event/board-of-directors-meeting-3/
END:VEVENT
BEGIN:VEVENT
DTSTART;TZID=Pacific/Honolulu:20220518T140000
DTEND;TZID=Pacific/Honolulu:20220518T160000
DTSTAMP:20260425T003234
CREATED:20220317T011856Z
LAST-MODIFIED:20220317T011856Z
UID:2860-1652882400-1652889600@aoaowaikikisunset.com
SUMMARY:Annual Homeowners Meeting
DESCRIPTION:
URL:https://aoaowaikikisunset.com/event/annual-homeowners-meeting-2/
END:VEVENT
BEGIN:VEVENT
DTSTART;TZID=Pacific/Honolulu:20220428T090000
DTEND;TZID=Pacific/Honolulu:20220428T110000
DTSTAMP:20260425T003234
CREATED:20220328T202405Z
LAST-MODIFIED:20220428T004753Z
UID:2881-1651136400-1651143600@aoaowaikikisunset.com
SUMMARY:**Board Meeting**
DESCRIPTION:Meeting will be held via Video Conference \nThe Association will be using ZOOM for all future Board Meetings. \nPlease use the following link: \nhttps://zoom.us \nGo to “Join Meeting” \nEnter Meeting ID# 836-8730-3280 \nYou may also download the ZOOM app for ios and Android platforms. \nFor the App: \nMeeting ID # 836-8730-3280 \nWe ask that all owners begin to check in at 8:45am \nPlease note for this meeting there is no password required. \n(808)931-6077 \nMahalo! \nI – Mtg Notice Agenda 2022.04.28
URL:https://aoaowaikikisunset.com/event/board-meeting-5/
END:VEVENT
BEGIN:VEVENT
DTSTART;TZID=Pacific/Honolulu:20220324T090000
DTEND;TZID=Pacific/Honolulu:20220324T110000
DTSTAMP:20260425T003234
CREATED:20220319T024238Z
LAST-MODIFIED:20220319T024521Z
UID:2867-1648112400-1648119600@aoaowaikikisunset.com
SUMMARY:*Board Meeting*
DESCRIPTION:Meeting will be held via Video Conference \nThe Association will be using ZOOM for all future Board Meetings. \nPlease use the following link: \nhttps://zoom.us \nGo to “Join Meeting” \nEnter Meeting ID# 973-3281-9642 \nYou may also download the ZOOM app for ios and Android platforms. \nFor the App: \nMeeting ID # 973-3281-9642 \nWe ask that all owners begin to check in at 8:45am \nYou will have to contact the Association Office for the passcode for both applications \n(808)931-6077 \nMahalo! \nhttps://aoaowaikikisunset.com/wp-content/uploads/_mediavault/2022/03/1.-Mtg-Notice-Agenda-2022.03.24.pdf
URL:https://aoaowaikikisunset.com/event/board-meeting-4/
END:VEVENT
BEGIN:VEVENT
DTSTART;TZID=Pacific/Honolulu:20220224T090000
DTEND;TZID=Pacific/Honolulu:20220224T110000
DTSTAMP:20260425T003234
CREATED:20220223T005754Z
LAST-MODIFIED:20220223T191646Z
UID:2829-1645693200-1645700400@aoaowaikikisunset.com
SUMMARY:*Board Meeting*
DESCRIPTION:Meeting will be held via Video Conference \nThe Association will be using ZOOM for all future Board Meetings. \nPlease use the following link: \nhttps://zoom.us \nGo to “Join Meeting” \nEnter Meeting ID# 945-0120-8122 \nYou may also download the ZOOM app for ios and Android platforms. \nFor the App: \nMeeting ID # 945-0120-8122 \nWe ask that all owners begin to check in at 8:45am \nYou will have to contact the Association Office for the passcode for both applications \n(808)931-6077 \nMahalo! \nI – Agenda 2022.02.24
URL:https://aoaowaikikisunset.com/event/board-meeting-thursday-february-24th-at-9am-hst/
END:VEVENT
BEGIN:VEVENT
DTSTART;TZID=Pacific/Honolulu:20220125T090000
DTEND;TZID=Pacific/Honolulu:20220125T110000
DTSTAMP:20260425T003234
CREATED:20220105T194443Z
LAST-MODIFIED:20220122T000042Z
UID:2799-1643101200-1643108400@aoaowaikikisunset.com
SUMMARY:*Board Meeting*
DESCRIPTION:Meeting will be held via Video Conference \nThe Association will be using ZOOM for all future Board Meetings. \nPlease use the following link: \nhttps://zoom.us \nGo to “Join Meeting” \nEnter Meeting ID: 941-9856-3954 \nYou may also download the ZOOM app for ios and Android platforms. \nFor the App: \nMeeting ID # 941-9856-3954 \nWe ask that all owners begin to check in at 8:45am \nYou will have to contact the Association Office for the passcode for both applications \n(808)931-6077 \nMahalo! \nhttps://aoaowaikikisunset.com/i-mtg-notice-agenda-2022-01-25/
URL:https://aoaowaikikisunset.com/event/board-meeting-3/
END:VEVENT
BEGIN:VEVENT
DTSTART;TZID=Pacific/Honolulu:20220124T080000
DTEND;TZID=Pacific/Honolulu:20220128T170000
DTSTAMP:20260425T003234
CREATED:20220105T213855Z
LAST-MODIFIED:20220105T213855Z
UID:2801-1643011200-1643389200@aoaowaikikisunset.com
SUMMARY:*Window Cleaning*
DESCRIPTION:
URL:https://aoaowaikikisunset.com/event/window-cleaning-2/
END:VEVENT
BEGIN:VEVENT
DTSTART;TZID=Pacific/Honolulu:20211215T090000
DTEND;TZID=Pacific/Honolulu:20211215T113000
DTSTAMP:20260425T003234
CREATED:20211213T201939Z
LAST-MODIFIED:20211213T202540Z
UID:2779-1639558800-1639567800@aoaowaikikisunset.com
SUMMARY:Board of Directors Meeting
DESCRIPTION:Meeting will be held via Video Conference \nThe Association will be using ZOOM for all future Board Meetings. \nPlease use the following link: \nhttps://zoom.us \nGo to “Join Meeting” \nEnter Meeting ID: 983-2074-1927 \nYou may also download the ZOOM app for ios and Android platforms. \nFor the App: \nMeeting ID # 983-2074-1927 \nWe ask that all owners begin to check in at 8:45am \nYou will have to contact the Association Office for the pass code for both applications \n(808)931-6077 \nMahalo! \nhttps://aoaowaikikisunset.com/i-ws-bod-mtg-notice-agenda-2021-12-15/
URL:https://aoaowaikikisunset.com/event/board-of-directors-meeting-2/
END:VEVENT
BEGIN:VEVENT
DTSTART;TZID=Pacific/Honolulu:20211203T090000
DTEND;TZID=Pacific/Honolulu:20211203T170000
DTSTAMP:20260425T003234
CREATED:20211124T200244Z
LAST-MODIFIED:20211124T200244Z
UID:2770-1638522000-1638550800@aoaowaikikisunset.com
SUMMARY:Laundry Room Dryer Exhaust Vent Cleaning
DESCRIPTION:
URL:https://aoaowaikikisunset.com/event/laundry-room-dryer-exhaust-vent-cleaning-3/
END:VEVENT
BEGIN:VEVENT
DTSTART;TZID=Pacific/Honolulu:20211203T080000
DTEND;TZID=Pacific/Honolulu:20211203T120000
DTSTAMP:20260425T003234
CREATED:20211130T193558Z
LAST-MODIFIED:20211130T193558Z
UID:2772-1638518400-1638532800@aoaowaikikisunset.com
SUMMARY:Building Water Shutdown
DESCRIPTION:
URL:https://aoaowaikikisunset.com/event/building-water-shutdown/
END:VEVENT
BEGIN:VEVENT
DTSTART;TZID=Pacific/Honolulu:20211202T090000
DTEND;TZID=Pacific/Honolulu:20211202T170000
DTSTAMP:20260425T003234
CREATED:20211124T200209Z
LAST-MODIFIED:20211124T200209Z
UID:2768-1638435600-1638464400@aoaowaikikisunset.com
SUMMARY:Laundry Room Dryer Exhaust Vent Cleaning
DESCRIPTION:
URL:https://aoaowaikikisunset.com/event/laundry-room-dryer-exhaust-vent-cleaning-2/
END:VEVENT
BEGIN:VEVENT
DTSTART;TZID=Pacific/Honolulu:20211201T090000
DTEND;TZID=Pacific/Honolulu:20211201T170000
DTSTAMP:20260425T003234
CREATED:20211124T195931Z
LAST-MODIFIED:20211124T200125Z
UID:2766-1638349200-1638378000@aoaowaikikisunset.com
SUMMARY:Laundry Room Dryer Exhaust Vent Cleaning
DESCRIPTION:
URL:https://aoaowaikikisunset.com/event/laundry-room-dryer-exhaust-vent-cleaning/
END:VEVENT
BEGIN:VEVENT
DTSTART;TZID=Pacific/Honolulu:20211018T080000
DTEND;TZID=Pacific/Honolulu:20211018T170000
DTSTAMP:20260425T003234
CREATED:20211018T235655Z
LAST-MODIFIED:20211019T000658Z
UID:2730-1634544000-1634576400@aoaowaikikisunset.com
SUMMARY:Thursday\, October 21\, 2021 Board of Directors Meeting
DESCRIPTION:Meeting will be held via Video Conference \nThe Association will be using ZOOM for all future Board Meetings. \nPlease use the following link: \nhttps://zoom.us \nGo to “Join Meeting” \nEnter Meeting ID:940 4554 7109 \nYou may also download the ZOOM app for ios and Android platforms. \nFor the App: \nMeeting ID: 940 4554 7109 \nWe ask that all owners begin to check in at 8:45am \nYou will have to contact the Association Office for the pass code for both applications \n(808)931-6077 \nMahalo! \nhttps://aoaowaikikisunset.com/wp-content/uploads/2021/10/WS-BOD-Mtg-Notice-Agenda-2021.10.21.pdf
URL:https://aoaowaikikisunset.com/event/thursday-october-21-2021-board-of-directors-meeting/
END:VEVENT
BEGIN:VEVENT
DTSTART;TZID=Pacific/Honolulu:20210923T090000
DTEND;TZID=Pacific/Honolulu:20210923T110000
DTSTAMP:20260425T003234
CREATED:20210921T022957Z
LAST-MODIFIED:20210922T002401Z
UID:2716-1632387600-1632394800@aoaowaikikisunset.com
SUMMARY:Board of Directors Meeting
DESCRIPTION:Meeting will be held via Video Conference \nThe Association will be using ZOOM for all future Board Meetings. \nPlease use the following link: \nhttps://zoom.us \nGo to “Join Meeting” \nEnter Meeting ID: 965-1123-7507 \nYou may also download the ZOOM app for ios and Android platforms. \nFor the App: \nMeeting ID # 965-1123-7507 \nWe ask that all owners begin to check in at 8:45am \nYou will have to contact the Association Office for the pass code for both applications \n(808)931-6077 \nMahalo! \nhttps://aoaowaikikisunset.com/wp-content/uploads/_mediavault/2021/09/I-WS-BOD-Mtg-Notice-Agenda-2021.09.23.pdf
URL:https://aoaowaikikisunset.com/event/board-of-directors-meeting/
END:VEVENT
BEGIN:VEVENT
DTSTART;TZID=Pacific/Honolulu:20210907T130000
DTEND;TZID=Pacific/Honolulu:20210907T140000
DTSTAMP:20260425T003234
CREATED:20210904T004953Z
LAST-MODIFIED:20210904T005118Z
UID:2695-1631019600-1631023200@aoaowaikikisunset.com
SUMMARY:*Special Board Meeting*
DESCRIPTION:Meeting will be held via Video Conference \nThe Association will be using ZOOM for all future Board Meetings. \nPlease use the following link: \nhttps://zoom.us \nGo to “Join Meeting” \nEnter Meeting ID: 926-6356-5643 \nYou may also download the ZOOM app for ios and Android platforms. \nFor the App: \nMeeting ID # 926-6356-5643 \nWe ask that all owners begin to check in at 8:45am \nYou will have to contact the Association Office for the pass code for both applications \n(808)931-6077 \nMahalo! \n2792 Special BOD Mtg Ntc Agenda 2021.09.07
URL:https://aoaowaikikisunset.com/event/special-board-meeting-3/
END:VEVENT
BEGIN:VEVENT
DTSTART;TZID=Pacific/Honolulu:20210830T080000
DTEND;TZID=Pacific/Honolulu:20210903T160000
DTSTAMP:20260425T003234
CREATED:20210806T021936Z
LAST-MODIFIED:20210806T021936Z
UID:2659-1630310400-1630684800@aoaowaikikisunset.com
SUMMARY:Window Cleaning
DESCRIPTION:
URL:https://aoaowaikikisunset.com/event/window-cleaning/
END:VEVENT
BEGIN:VEVENT
DTSTART;TZID=Pacific/Honolulu:20210826T140000
DTEND;TZID=Pacific/Honolulu:20210826T160000
DTSTAMP:20260425T003234
CREATED:20210805T191526Z
LAST-MODIFIED:20210805T192306Z
UID:2655-1629986400-1629993600@aoaowaikikisunset.com
SUMMARY:Annual Homeowners Meeting
DESCRIPTION:NOTICE OF ANNUAL MEETING\nASSOCIATION OF APARTMENT OWNERS\nWAIKIKI SUNSET\nDATE: August 26\, 2021\nTIME: 2:00p.m. (Registration begins at 1:30p.m.)\nPLACE: On-Site
URL:https://aoaowaikikisunset.com/event/annual-homeowners-meeting/
END:VEVENT
BEGIN:VEVENT
DTSTART;TZID=Pacific/Honolulu:20210722T090000
DTEND;TZID=Pacific/Honolulu:20210722T100000
DTSTAMP:20260425T003234
CREATED:20210709T194405Z
LAST-MODIFIED:20210717T030245Z
UID:2597-1626944400-1626948000@aoaowaikikisunset.com
SUMMARY:*Board Meeting*
DESCRIPTION:Meeting will be held via Video Conference \nThe Association will be using ZOOM for all future Board Meetings. \nPlease use the following link: \nhttps://zoom.us \nGo to “Join Meeting” \nEnter Meeting ID: 937-2858-5919 \nYou may also download the ZOOM app for ios and Android platforms. \nFor the App: \nMeeting ID # 937-2858-5919 \nWe ask that all owners begin to check in at 8:45am \nYou will have to contact the Association Office for the pass code for both applications \n(808)931-6077 \nMahalo! \nhttps://aoaowaikikisunset.com/i-notice-and-agenda-07-22-2021/
URL:https://aoaowaikikisunset.com/event/board-meeting-2/
END:VEVENT
BEGIN:VEVENT
DTSTART;TZID=Pacific/Honolulu:20201112T100000
DTEND;TZID=Pacific/Honolulu:20201112T120000
DTSTAMP:20260425T003234
CREATED:20201111T003736Z
LAST-MODIFIED:20201111T004452Z
UID:2035-1605175200-1605182400@aoaowaikikisunset.com
SUMMARY:**Special Board Meeting**
DESCRIPTION:Meeting will be held via Video Conference \nThe Association will be using ZOOM for all future Board Meetings. \nPlease use the following link: \nhttps://zoom.us \nGo to”Join Meeting” \nEnter Meeting ID: 746-204-5994 \nYou may also download the ZOOM app for ios and Android platforms. \nFor the App: \nMeeting ID # 746-204-5994 \nWe ask that all owners begin to check in at 9:50am \nYou will have to contact the Association Office for the pass code for both applications \n(808)931-6077 \nMahalo! \nhttps://aoaowaikikisunset.com/waikiki-sunset-special-mtg-notice-agenda-2020-11/
URL:https://aoaowaikikisunset.com/event/special-board-meeting-2/
END:VEVENT
BEGIN:VEVENT
DTSTART;TZID=Pacific/Honolulu:20200727T110000
DTEND;TZID=Pacific/Honolulu:20200727T140000
DTSTAMP:20260425T003234
CREATED:20200725T031215Z
LAST-MODIFIED:20200725T031215Z
UID:1807-1595847600-1595858400@aoaowaikikisunset.com
SUMMARY:**Special Board Meeting**
DESCRIPTION:Meeting will be held via Video Conference \nThe Association will be using ZOOM for all future Board Meetings. \nPlease use the following link: \nhttps://zoom.us \nGo to”Join Meeting” \nEnter Meeting ID: 746-204-5994 \nYou may also download the ZOOM app for ios and Android platforms. \nFor the App: \nMeeting ID # 746-204-5994 \nWe ask that all owners begin to check in at 10:45am \nYou will have to contact the Association Office for the pass code for both applications \n(808)931-6077 \nMahalo!
URL:https://aoaowaikikisunset.com/event/special-board-meeting/
END:VEVENT
BEGIN:VEVENT
DTSTART;TZID=Pacific/Honolulu:20200116T090000
DTEND;TZID=Pacific/Honolulu:20200116T100000
DTSTAMP:20260425T003234
CREATED:20191219T192658Z
LAST-MODIFIED:20191219T192957Z
UID:858-1579165200-1579168800@aoaowaikikisunset.com
SUMMARY:Board Meeting
DESCRIPTION:Attorneys that represent the AOAO regarding Bill 89 will be at the next Board Meeting on Jan\, 16th @ 9am to answer questions.
URL:https://aoaowaikikisunset.com/event/board-meeting/
END:VEVENT
BEGIN:VEVENT
DTSTART;VALUE=DATE:20200113
DTEND;VALUE=DATE:20200114
DTSTAMP:20260425T003234
CREATED:20200108T010610Z
LAST-MODIFIED:20200108T010710Z
UID:1257-1578873600-1578959999@aoaowaikikisunset.com
SUMMARY:New Website Goes Live!
DESCRIPTION:Owners will be able to register for the new website! Please note some items are still be added and will be a work in progress!
URL:https://aoaowaikikisunset.com/event/new-website-goes-live/
END:VEVENT
END:VCALENDAR