BEGIN:VCALENDAR
VERSION:2.0
PRODID:-//AOAO Waikiki Sunset - ECPv6.13.2.1//NONSGML v1.0//EN
CALSCALE:GREGORIAN
METHOD:PUBLISH
X-WR-CALNAME:AOAO Waikiki Sunset
X-ORIGINAL-URL:https://aoaowaikikisunset.com
X-WR-CALDESC:Events for AOAO Waikiki Sunset
REFRESH-INTERVAL;VALUE=DURATION:PT1H
X-Robots-Tag:noindex
X-PUBLISHED-TTL:PT1H
BEGIN:VTIMEZONE
TZID:Pacific/Honolulu
BEGIN:STANDARD
TZOFFSETFROM:-1000
TZOFFSETTO:-1000
TZNAME:HST
DTSTART:20240101T000000
END:STANDARD
END:VTIMEZONE
BEGIN:VEVENT
DTSTART;TZID=Pacific/Honolulu:20250131T090000
DTEND;TZID=Pacific/Honolulu:20250131T110000
DTSTAMP:20260423T091339
CREATED:20250124T041600Z
LAST-MODIFIED:20250124T041600Z
UID:3816-1738314000-1738321200@aoaowaikikisunset.com
SUMMARY:Building Water Shutdown
DESCRIPTION:Building Water Shutdown Notice 13125 ENG JPN
URL:https://aoaowaikikisunset.com/event/building-water-shutdown-3/
END:VEVENT
BEGIN:VEVENT
DTSTART;TZID=Pacific/Honolulu:20250123T090000
DTEND;TZID=Pacific/Honolulu:20250123T110000
DTSTAMP:20260423T091339
CREATED:20241212T215736Z
LAST-MODIFIED:20250120T194341Z
UID:3776-1737622800-1737630000@aoaowaikikisunset.com
SUMMARY:**Board of Directors Meeting**
DESCRIPTION:Meeting will be held via Video Conference \nThe Association will be using ZOOM for all future Board Meetings. \nPlease use the following link: \nhttps://zoom.us \nGo to “Join Meeting” \nEnter Meeting ID # 824-7283-4296 \nYou may also download the ZOOM app for ios and Android platforms. \nFor the App: \nMeeting ID # 824-7283-4296 \nWe ask that all owners begin to check in at 8:45am \nPlease identify yourself with your name and unit number \nYou will have to contact the Association Office for the passcode for both applications. \n(808)931-6077 \nMahalo! \nI – Notice Agenda – 2025.01.23
URL:https://aoaowaikikisunset.com/event/board-of-directors-meeting-26/
END:VEVENT
BEGIN:VEVENT
DTSTART;TZID=Pacific/Honolulu:20250103T080000
DTEND;TZID=Pacific/Honolulu:20250103T170000
DTSTAMP:20260423T091339
CREATED:20241228T020638Z
LAST-MODIFIED:20241228T020638Z
UID:3788-1735891200-1735923600@aoaowaikikisunset.com
SUMMARY:**Window Cleaning**
DESCRIPTION:
URL:https://aoaowaikikisunset.com/event/window-cleaning-9/
END:VEVENT
BEGIN:VEVENT
DTSTART;TZID=Pacific/Honolulu:20250102T080000
DTEND;TZID=Pacific/Honolulu:20250102T170000
DTSTAMP:20260423T091339
CREATED:20241228T020608Z
LAST-MODIFIED:20241228T020608Z
UID:3786-1735804800-1735837200@aoaowaikikisunset.com
SUMMARY:**Window Cleaning**
DESCRIPTION:
URL:https://aoaowaikikisunset.com/event/window-cleaning-8/
END:VEVENT
BEGIN:VEVENT
DTSTART;TZID=Pacific/Honolulu:20241231T080000
DTEND;TZID=Pacific/Honolulu:20241231T170000
DTSTAMP:20260423T091339
CREATED:20241228T020503Z
LAST-MODIFIED:20241228T020503Z
UID:3784-1735632000-1735664400@aoaowaikikisunset.com
SUMMARY:**Window Cleaning**
DESCRIPTION:
URL:https://aoaowaikikisunset.com/event/window-cleaning-7/
END:VEVENT
BEGIN:VEVENT
DTSTART;TZID=Pacific/Honolulu:20241230T080000
DTEND;TZID=Pacific/Honolulu:20241230T170000
DTSTAMP:20260423T091339
CREATED:20241228T020440Z
LAST-MODIFIED:20241228T020440Z
UID:3782-1735545600-1735578000@aoaowaikikisunset.com
SUMMARY:**Window Cleaning**
DESCRIPTION:
URL:https://aoaowaikikisunset.com/event/window-cleaning-6/
END:VEVENT
BEGIN:VEVENT
DTSTART;TZID=Pacific/Honolulu:20241218T090000
DTEND;TZID=Pacific/Honolulu:20241218T170000
DTSTAMP:20260423T091339
CREATED:20241210T050431Z
LAST-MODIFIED:20241210T050431Z
UID:3774-1734512400-1734541200@aoaowaikikisunset.com
SUMMARY:Building Water Shutdown
DESCRIPTION:Hot Water System Upgrade Project – Building Water Shutdown Notice 12.18.2024
URL:https://aoaowaikikisunset.com/event/building-water-shutdown-2/
END:VEVENT
BEGIN:VEVENT
DTSTART;TZID=Pacific/Honolulu:20241212T090000
DTEND;TZID=Pacific/Honolulu:20241212T110000
DTSTAMP:20260423T091339
CREATED:20241024T201806Z
LAST-MODIFIED:20241210T045952Z
UID:3755-1733994000-1734001200@aoaowaikikisunset.com
SUMMARY:*Board of Directors Meeting*
DESCRIPTION:Meeting will be held via Video Conference \nThe Association will be using ZOOM for all future Board Meetings. \nPlease use the following link: \nhttps://zoom.us \nGo to “Join Meeting” \nEnter Meeting ID # 811-2105-3882 \nYou may also download the ZOOM app for ios and Android platforms. \nFor the App: \nMeeting ID # 811-2105-3882 \nWe ask that all owners begin to check in at 8:45am \nPlease identify yourself with your name and unit number \nYou will have to contact the Association Office for the passcode for both applications. \n(808)931-6077 \nMahalo! \nII – Notice Agenda – 2024.12.12
URL:https://aoaowaikikisunset.com/event/board-of-directors-meeting-25/
END:VEVENT
BEGIN:VEVENT
DTSTART;TZID=Pacific/Honolulu:20241024T090000
DTEND;TZID=Pacific/Honolulu:20241024T110000
DTSTAMP:20260423T091339
CREATED:20240926T221920Z
LAST-MODIFIED:20241019T035741Z
UID:3736-1729760400-1729767600@aoaowaikikisunset.com
SUMMARY:Board Of Directors Meeting
DESCRIPTION:Meeting will be held via Video Conference \nThe Association will be using ZOOM for all future Board Meetings. \nPlease use the following link: \nhttps://zoom.us \nGo to “Join Meeting” \nEnter Meeting ID # 829-1484-2162 \nYou may also download the ZOOM app for ios and Android platforms. \nFor the App: \nMeeting ID # 829-1484-2162 \nWe ask that all owners begin to check in at 8:45am \nPlease identify yourself with your name and unit number \nYou will have to contact the Association Office for the passcode for both applications. \n(808)931-6077 \nMahalo! \nI – Notice & Agenda – 2024.10.24
URL:https://aoaowaikikisunset.com/event/board-of-directors-meeting-24/
END:VEVENT
BEGIN:VEVENT
DTSTART;TZID=Pacific/Honolulu:20240926T090000
DTEND;TZID=Pacific/Honolulu:20240926T110000
DTSTAMP:20260423T091339
CREATED:20240830T195207Z
LAST-MODIFIED:20240921T015118Z
UID:3687-1727341200-1727348400@aoaowaikikisunset.com
SUMMARY:Board of Directors Meeting
DESCRIPTION:Meeting will be held via Video Conference \nThe Association will be using ZOOM for all future Board Meetings. \nPlease use the following link: \nhttps://zoom.us \nGo to “Join Meeting” \nEnter Meeting ID # 844-8288-0766 \nYou may also download the ZOOM app for ios and Android platforms. \nFor the App: \nMeeting ID # 844-8288-0766 \nWe ask that all owners begin to check in at 8:45pm \nPlease identify yourself with your name and unit number \nYou will have to contact the Association Office for the passcode for both applications. \n(808)931-6077 \nMahalo! \nI – Agenda – 2024.9.26
URL:https://aoaowaikikisunset.com/event/board-of-directors-meeting-23/
END:VEVENT
BEGIN:VEVENT
DTSTART;TZID=Pacific/Honolulu:20240923T080000
DTEND;TZID=Pacific/Honolulu:20240927T160000
DTSTAMP:20260423T091339
CREATED:20240916T215923Z
LAST-MODIFIED:20240916T215923Z
UID:3721-1727078400-1727452800@aoaowaikikisunset.com
SUMMARY:*Window Cleaning*
DESCRIPTION:
URL:https://aoaowaikikisunset.com/event/window-cleaning-5/
END:VEVENT
BEGIN:VEVENT
DTSTART;TZID=Pacific/Honolulu:20240920T080000
DTEND;TZID=Pacific/Honolulu:20240920T150000
DTSTAMP:20260423T091339
CREATED:20240916T215821Z
LAST-MODIFIED:20240916T215821Z
UID:3719-1726819200-1726844400@aoaowaikikisunset.com
SUMMARY:*Fire Alarm Testing*
DESCRIPTION:Honeywell Fire Alarm Testing 09.19-09.20.2024
URL:https://aoaowaikikisunset.com/event/fire-alarm-testing-2/
END:VEVENT
BEGIN:VEVENT
DTSTART;TZID=Pacific/Honolulu:20240919T080000
DTEND;TZID=Pacific/Honolulu:20240919T150000
DTSTAMP:20260423T091339
CREATED:20240916T215742Z
LAST-MODIFIED:20240916T215742Z
UID:3717-1726732800-1726758000@aoaowaikikisunset.com
SUMMARY:*Fire Alarm Testing*
DESCRIPTION:Honeywell Fire Alarm Testing 09.19-09.20.2024
URL:https://aoaowaikikisunset.com/event/fire-alarm-testing/
END:VEVENT
BEGIN:VEVENT
DTSTART;TZID=Pacific/Honolulu:20240918T080000
DTEND;TZID=Pacific/Honolulu:20240918T140000
DTSTAMP:20260423T091339
CREATED:20240916T215648Z
LAST-MODIFIED:20240916T215648Z
UID:3715-1726646400-1726668000@aoaowaikikisunset.com
SUMMARY:*Gas Service Outage*
DESCRIPTION:Continental Mechanical Notice of Work 09.18.2024 (002)
URL:https://aoaowaikikisunset.com/event/gas-service-outage/
END:VEVENT
BEGIN:VEVENT
DTSTART;TZID=Pacific/Honolulu:20240906T140000
DTEND;TZID=Pacific/Honolulu:20240906T150000
DTSTAMP:20260423T091339
CREATED:20240905T013745Z
LAST-MODIFIED:20240905T014213Z
UID:3696-1725631200-1725634800@aoaowaikikisunset.com
SUMMARY:**Special Board of Directors Meeting**
DESCRIPTION:Meeting will be held via Video Conference \nThe Association will be using ZOOM for all future Board Meetings. \nPlease use the following link: \nhttps://zoom.us \nGo to “Join Meeting” \nEnter Meeting ID # 826-1014-3404 \nYou may also download the ZOOM app for ios and Android platforms. \nFor the App: \nMeeting ID # 826-1014-3404 \nWe ask that all owners begin to check in at 1:45pm \nPlease identify yourself with your name and unit number \nYou will have to contact the Association Office for the passcode for both applications. \n(808)931-6077 \nMahalo! \n  \nhttps://aoaowaikikisunset.com/wp-content/uploads/_mediavault/2024/09/2792-Notice-Agenda-Special-BOD-Mtg-2024.09.06.pdf
URL:https://aoaowaikikisunset.com/event/special-board-of-directors-meeting-3/
END:VEVENT
BEGIN:VEVENT
DTSTART;TZID=Pacific/Honolulu:20240904T083000
DTEND;TZID=Pacific/Honolulu:20240904T123000
DTSTAMP:20260423T091339
CREATED:20240830T195053Z
LAST-MODIFIED:20240830T195053Z
UID:3685-1725438600-1725453000@aoaowaikikisunset.com
SUMMARY:**Building Power Outage**
DESCRIPTION:https://aoaowaikikisunset.com/wp-content/uploads/_mediavault/2024/08/Power-Outage-Notice-09.03.24-09.04.24-FNL.pdf
URL:https://aoaowaikikisunset.com/event/building-power-outage-9/
END:VEVENT
BEGIN:VEVENT
DTSTART;TZID=Pacific/Honolulu:20240903T083000
DTEND;TZID=Pacific/Honolulu:20240903T163000
DTSTAMP:20260423T091339
CREATED:20240830T195010Z
LAST-MODIFIED:20240830T195010Z
UID:3683-1725352200-1725381000@aoaowaikikisunset.com
SUMMARY:**Building Power Outage**
DESCRIPTION:Power Outage Notice 09.03.24 & 09.04.24 FNL
URL:https://aoaowaikikisunset.com/event/building-power-outage-8/
END:VEVENT
BEGIN:VEVENT
DTSTART;TZID=Pacific/Honolulu:20240822T090000
DTEND;TZID=Pacific/Honolulu:20240822T110000
DTSTAMP:20260423T091339
CREATED:20240730T043412Z
LAST-MODIFIED:20240817T025553Z
UID:3633-1724317200-1724324400@aoaowaikikisunset.com
SUMMARY:Board of Directors Meeting
DESCRIPTION:Meeting will be held via Video Conference \nThe Association will be using ZOOM for all future Board Meetings. \nPlease use the following link: \nhttps://zoom.us \nGo to “Join Meeting” \nEnter Meeting ID # 846-0766-8205 \nYou may also download the ZOOM app for ios and Android platforms. \nFor the App: \nMeeting ID # 846-0766-8205 \nWe ask that all owners begin to check in at 8:45am \nPlease identify yourself with your name and unit number \nYou will have to contact the Association Office for the passcode for both applications. \n(808)931-6077 \nMahalo! \nI – Agenda – 2024.8.22
URL:https://aoaowaikikisunset.com/event/board-of-directors-meeting-22/
END:VEVENT
BEGIN:VEVENT
DTSTART;TZID=Pacific/Honolulu:20240821T080000
DTEND;TZID=Pacific/Honolulu:20240821T160000
DTSTAMP:20260423T091339
CREATED:20240816T212850Z
LAST-MODIFIED:20240816T212931Z
UID:3667-1724227200-1724256000@aoaowaikikisunset.com
SUMMARY:Building Power Outage
DESCRIPTION:Power Outage Notice 08.20.24-08.21.24 FNL
URL:https://aoaowaikikisunset.com/event/building-power-outage-7/
END:VEVENT
BEGIN:VEVENT
DTSTART;TZID=Pacific/Honolulu:20240820T083000
DTEND;TZID=Pacific/Honolulu:20240820T163000
DTSTAMP:20260423T091339
CREATED:20240816T212609Z
LAST-MODIFIED:20240816T212609Z
UID:3664-1724142600-1724171400@aoaowaikikisunset.com
SUMMARY:Power Outage - Pool Closure
DESCRIPTION:Power Outage Notice 08.20.24-08.21.24 FNL
URL:https://aoaowaikikisunset.com/event/power-outage-pool-closure/
END:VEVENT
BEGIN:VEVENT
DTSTART;TZID=Pacific/Honolulu:20240809T080000
DTEND;TZID=Pacific/Honolulu:20240809T160000
DTSTAMP:20260423T091339
CREATED:20240730T043859Z
LAST-MODIFIED:20240803T050925Z
UID:3643-1723190400-1723219200@aoaowaikikisunset.com
SUMMARY:Building Water Supply Outage
DESCRIPTION:Power Outage Notice 08.06.24-08.09.24 rev 080224
URL:https://aoaowaikikisunset.com/event/building-water-supply-outage/
END:VEVENT
BEGIN:VEVENT
DTSTART;TZID=Pacific/Honolulu:20240808T120000
DTEND;TZID=Pacific/Honolulu:20240808T140000
DTSTAMP:20260423T091339
CREATED:20240730T043718Z
LAST-MODIFIED:20240803T050850Z
UID:3641-1723118400-1723125600@aoaowaikikisunset.com
SUMMARY:Building Power Outage
DESCRIPTION:Power Outage Notice 08.06.24-08.09.24 rev 080224
URL:https://aoaowaikikisunset.com/event/building-power-outage-6/
END:VEVENT
BEGIN:VEVENT
DTSTART;TZID=Pacific/Honolulu:20240808T020000
DTEND;TZID=Pacific/Honolulu:20240808T140000
DTSTAMP:20260423T091339
CREATED:20240803T051050Z
LAST-MODIFIED:20240803T051055Z
UID:3651-1723082400-1723125600@aoaowaikikisunset.com
SUMMARY:AC Outage
DESCRIPTION:Power Outage Notice 08.06.24-08.09.24 rev 080224
URL:https://aoaowaikikisunset.com/event/ac-outage/
END:VEVENT
BEGIN:VEVENT
DTSTART;TZID=Pacific/Honolulu:20240807T040000
DTEND;TZID=Pacific/Honolulu:20240807T160000
DTSTAMP:20260423T091339
CREATED:20240730T043621Z
LAST-MODIFIED:20240803T050755Z
UID:3639-1723003200-1723046400@aoaowaikikisunset.com
SUMMARY:AC Outage
DESCRIPTION:Power Outage Notice 08.06.24-08.09.24 rev 080224
URL:https://aoaowaikikisunset.com/event/building-power-outage-5/
END:VEVENT
BEGIN:VEVENT
DTSTART;TZID=Pacific/Honolulu:20240806T083000
DTEND;TZID=Pacific/Honolulu:20240806T163000
DTSTAMP:20260423T091339
CREATED:20240730T043517Z
LAST-MODIFIED:20240803T050624Z
UID:3637-1722933000-1722961800@aoaowaikikisunset.com
SUMMARY:Building Power Outage
DESCRIPTION:Power Outage Notice 08.06.24-08.09.24 rev 080224
URL:https://aoaowaikikisunset.com/event/building-power-outage-4/
END:VEVENT
BEGIN:VEVENT
DTSTART;TZID=Pacific/Honolulu:20240725T090000
DTEND;TZID=Pacific/Honolulu:20240725T110000
DTSTAMP:20260423T091339
CREATED:20240628T021544Z
LAST-MODIFIED:20240723T202015Z
UID:3608-1721898000-1721905200@aoaowaikikisunset.com
SUMMARY:*Board of Directors Meeting*
DESCRIPTION:Meeting will be held via Video Conference \nThe Association will be using ZOOM for all future Board Meetings. \nPlease use the following link: \nhttps://zoom.us \nGo to “Join Meeting” \nEnter Meeting ID # 836-6900-1583 \nYou may also download the ZOOM app for ios and Android platforms. \nFor the App: \nMeeting ID # 836-6900-1583 \nWe ask that all owners begin to check in at 8:45am \nPlease identify yourself with your name and unit number \nYou will have to contact the Association Office for the passcode for both applications. \n(808)931-6077 \nMahalo! \nI – Agenda – 2024.07.25
URL:https://aoaowaikikisunset.com/event/board-of-directors-meeting-21/
END:VEVENT
BEGIN:VEVENT
DTSTART;TZID=Pacific/Honolulu:20240717T080000
DTEND;TZID=Pacific/Honolulu:20240717T160000
DTSTAMP:20260423T091339
CREATED:20240713T012429Z
LAST-MODIFIED:20240713T012429Z
UID:3620-1721203200-1721232000@aoaowaikikisunset.com
SUMMARY:Building Power Outage
DESCRIPTION:Building Power Outages Notice 07.16.24-07.17.24 FNL
URL:https://aoaowaikikisunset.com/event/building-power-outage-3/
END:VEVENT
BEGIN:VEVENT
DTSTART;TZID=Pacific/Honolulu:20240716T080000
DTEND;TZID=Pacific/Honolulu:20240716T160000
DTSTAMP:20260423T091339
CREATED:20240713T012325Z
LAST-MODIFIED:20240713T012325Z
UID:3618-1721116800-1721145600@aoaowaikikisunset.com
SUMMARY:Building Power Outage
DESCRIPTION:Building Power Outages Notice 07.16.24-07.17.24 FNL
URL:https://aoaowaikikisunset.com/event/building-power-outage-2/
END:VEVENT
BEGIN:VEVENT
DTSTART;TZID=Pacific/Honolulu:20240627T090000
DTEND;TZID=Pacific/Honolulu:20240627T110000
DTSTAMP:20260423T091339
CREATED:20240530T200210Z
LAST-MODIFIED:20240621T234357Z
UID:3580-1719478800-1719486000@aoaowaikikisunset.com
SUMMARY:Board of Directors Meeting
DESCRIPTION:Meeting will be held via Video Conference \nThe Association will be using ZOOM for all future Board Meetings. \nPlease use the following link: \nhttps://zoom.us \nGo to “Join Meeting” \nEnter Meeting ID # 873-9138-8402 \nYou may also download the ZOOM app for ios and Android platforms. \nFor the App: \nMeeting ID # 873-9138-8402 \nWe ask that all owners begin to check in at 8:45am \nPlease identify yourself with your name and unit number \nYou will have to contact the Association Office for the passcode for both applications. \n(808)931-6077 \nMahalo! \nhttps://aoaowaikikisunset.com/wp-content/uploads/_mediavault/2024/06/I-Agenda-2024.06.27.pdf
URL:https://aoaowaikikisunset.com/event/board-of-directors-meeting-20/
END:VEVENT
BEGIN:VEVENT
DTSTART;TZID=Pacific/Honolulu:20240530T090000
DTEND;TZID=Pacific/Honolulu:20240530T110000
DTSTAMP:20260423T091339
CREATED:20240525T025742Z
LAST-MODIFIED:20240525T025742Z
UID:3574-1717059600-1717066800@aoaowaikikisunset.com
SUMMARY:Board of Directors Meeting
DESCRIPTION:Meeting will be held via Video Conference \nThe Association will be using ZOOM for all future Board Meetings. \nPlease use the following link: \nhttps://zoom.us \nGo to “Join Meeting” \nEnter Meeting ID # 873-8961-4301 \nYou may also download the ZOOM app for ios and Android platforms. \nFor the App: \nMeeting ID # 873-8961-4301 \nWe ask that all owners begin to check in at 8:45am \nPlease identify yourself with your name and unit number \nYou will have to contact the Association Office for the passcode for both applications. \n(808)931-6077 \nMahalo! \nI – Agenda – 2024.05.30
URL:https://aoaowaikikisunset.com/event/board-of-directors-meeting-19/
END:VEVENT
END:VCALENDAR