BEGIN:VCALENDAR
VERSION:2.0
PRODID:-//AOAO Waikiki Sunset - ECPv6.13.2.1//NONSGML v1.0//EN
CALSCALE:GREGORIAN
METHOD:PUBLISH
X-WR-CALNAME:AOAO Waikiki Sunset
X-ORIGINAL-URL:https://aoaowaikikisunset.com
X-WR-CALDESC:Events for AOAO Waikiki Sunset
REFRESH-INTERVAL;VALUE=DURATION:PT1H
X-Robots-Tag:noindex
X-PUBLISHED-TTL:PT1H
BEGIN:VTIMEZONE
TZID:Pacific/Honolulu
BEGIN:STANDARD
TZOFFSETFROM:-1000
TZOFFSETTO:-1000
TZNAME:HST
DTSTART:20240101T000000
END:STANDARD
END:VTIMEZONE
BEGIN:VEVENT
DTSTART;TZID=Pacific/Honolulu:20260326T090000
DTEND;TZID=Pacific/Honolulu:20260326T110000
DTSTAMP:20260423T132311
CREATED:20260227T023557Z
LAST-MODIFIED:20260325T040224Z
UID:4105-1774515600-1774522800@aoaowaikikisunset.com
SUMMARY:Board of Directors Meeting
DESCRIPTION:Meeting will be held via Video Conference \nThe Association will be using ZOOM for all future Board Meetings. \nPlease use the following link: \nhttps://zoom.us \nGo to “Join Meeting” \nEnter Meeting ID # 828-9841-1788 \nYou may also download the ZOOM app for ios and Android platforms. \nFor the App: \nMeeting ID # 828-9841-1788 \nWe ask that all owners begin to check in at 8:45am \nPlease identify yourself with your name and unit number \nYou will have to contact the Association Office for the passcode for both applications. \n(808)931-6077 \nMahalo! \nI – Notice Agenda – 2026 03 26 – (002)
URL:https://aoaowaikikisunset.com/event/board-of-directors-meeting-39/
END:VEVENT
BEGIN:VEVENT
DTSTART;TZID=Pacific/Honolulu:20260301T070000
DTEND;TZID=Pacific/Honolulu:20260301T130000
DTSTAMP:20260423T132311
CREATED:20260228T023342Z
LAST-MODIFIED:20260228T023342Z
UID:4113-1772348400-1772370000@aoaowaikikisunset.com
SUMMARY:Fitness Center Closed For Cleaning
DESCRIPTION:
URL:https://aoaowaikikisunset.com/event/fitness-center-closed-for-cleaning/
END:VEVENT
BEGIN:VEVENT
DTSTART;TZID=Pacific/Honolulu:20260226T090000
DTEND;TZID=Pacific/Honolulu:20260226T110000
DTSTAMP:20260423T132311
CREATED:20260122T204825Z
LAST-MODIFIED:20260224T185838Z
UID:4081-1772096400-1772103600@aoaowaikikisunset.com
SUMMARY:Board of Directors Meeting
DESCRIPTION:Meeting will be held via Video Conference \nThe Association will be using ZOOM for all future Board Meetings. \nPlease use the following link: \nhttps://zoom.us \nGo to “Join Meeting” \nEnter Meeting ID # 828-9841-1788 \nYou may also download the ZOOM app for ios and Android platforms. \nFor the App: \nMeeting ID # 828-9841-1788 \nWe ask that all owners begin to check in at 8:45am \nPlease identify yourself with your name and unit number \nYou will have to contact the Association Office for the passcode for both applications. \n(808)931-6077 \nMahalo! \nI – Notice Agenda – 2026 02 26 (002)
URL:https://aoaowaikikisunset.com/event/board-of-directors-meeting-38/
END:VEVENT
BEGIN:VEVENT
DTSTART;TZID=Pacific/Honolulu:20260122T090000
DTEND;TZID=Pacific/Honolulu:20260122T110000
DTSTAMP:20260423T132311
CREATED:20251216T014029Z
LAST-MODIFIED:20260121T233043Z
UID:4055-1769072400-1769079600@aoaowaikikisunset.com
SUMMARY:Board of Directors Meeting
DESCRIPTION:Meeting will be held via Video Conference \nThe Association will be using ZOOM for all future Board Meetings. \nPlease use the following link: \nhttps://zoom.us \nGo to “Join Meeting” \nEnter Meeting ID # 828-9841-1788 \nYou may also download the ZOOM app for ios and Android platforms. \nFor the App: \nMeeting ID # 828-9841-1788 \nWe ask that all owners begin to check in at 8:45am \nPlease identify yourself with your name and unit number \nYou will have to contact the Association Office for the passcode for both applications. \n(808)931-6077 \nMahalo! \nI – Notice Agenda – 2026 01 22 (02)
URL:https://aoaowaikikisunset.com/event/board-of-directors-meeting-37/
END:VEVENT
BEGIN:VEVENT
DTSTART;TZID=Pacific/Honolulu:20260107T130000
DTEND;TZID=Pacific/Honolulu:20260107T140000
DTSTAMP:20260423T132311
CREATED:20251216T013942Z
LAST-MODIFIED:20251216T013942Z
UID:4053-1767790800-1767794400@aoaowaikikisunset.com
SUMMARY:Town Hall Meeting - Lobby Renovations
DESCRIPTION:TOWN HALL MEETING JAN 7 2026 ENGJPN
URL:https://aoaowaikikisunset.com/event/town-hall-meeting-lobby-renovations/
END:VEVENT
BEGIN:VEVENT
DTSTART;TZID=Pacific/Honolulu:20251211T090000
DTEND;TZID=Pacific/Honolulu:20251211T110000
DTSTAMP:20260423T132311
CREATED:20250927T014055Z
LAST-MODIFIED:20251210T201500Z
UID:4006-1765443600-1765450800@aoaowaikikisunset.com
SUMMARY:Board of Directors Meeting
DESCRIPTION:Meeting will be held via Video Conference \nThe Association will be using ZOOM for all future Board Meetings. \nPlease use the following link: \nhttps://zoom.us \nGo to “Join Meeting” \nEnter Meeting ID # 828-9841-1788 \nYou may also download the ZOOM app for ios and Android platforms. \nFor the App: \nMeeting ID # 828-9841-1788 \nWe ask that all owners begin to check in at 8:45am \nPlease identify yourself with your name and unit number \nYou will have to contact the Association Office for the passcode for both applications. \n(808)931-6077 \nMahalo! \nI – Notice Agenda – 2025.12.11 (003)
URL:https://aoaowaikikisunset.com/event/board-of-directors-meeting-36/
END:VEVENT
BEGIN:VEVENT
DTSTART;TZID=Pacific/Honolulu:20251203T080000
DTEND;TZID=Pacific/Honolulu:20251203T170000
DTSTAMP:20260423T132311
CREATED:20251118T020218Z
LAST-MODIFIED:20251118T020218Z
UID:4027-1764748800-1764781200@aoaowaikikisunset.com
SUMMARY:Trash Chute Cleaning
DESCRIPTION:
URL:https://aoaowaikikisunset.com/event/trash-chute-cleaning-2/
END:VEVENT
BEGIN:VEVENT
DTSTART;TZID=Pacific/Honolulu:20251110T080000
DTEND;TZID=Pacific/Honolulu:20251114T170000
DTSTAMP:20260423T132311
CREATED:20251023T211335Z
LAST-MODIFIED:20251023T211335Z
UID:4023-1762761600-1763139600@aoaowaikikisunset.com
SUMMARY:Window Cleaning
DESCRIPTION:
URL:https://aoaowaikikisunset.com/event/window-cleaning-10/
END:VEVENT
BEGIN:VEVENT
DTSTART;TZID=Pacific/Honolulu:20251023T090000
DTEND;TZID=Pacific/Honolulu:20251023T110000
DTSTAMP:20260423T132311
CREATED:20250927T014010Z
LAST-MODIFIED:20251021T035526Z
UID:4004-1761210000-1761217200@aoaowaikikisunset.com
SUMMARY:Board of Directors Meeting
DESCRIPTION:Meeting will be held via Video Conference \nThe Association will be using ZOOM for all future Board Meetings. \nPlease use the following link: \nhttps://zoom.us \nGo to “Join Meeting” \nEnter Meeting ID # 828-9841-1788 \nYou may also download the ZOOM app for ios and Android platforms. \nFor the App: \nMeeting ID # 828-9841-1788 \nWe ask that all owners begin to check in at 8:45am \nPlease identify yourself with your name and unit number \nYou will have to contact the Association Office for the passcode for both applications. \n(808)931-6077 \nMahalo! \nNotice & Agenda – 2025.10.23
URL:https://aoaowaikikisunset.com/event/board-of-directors-meeting-35/
END:VEVENT
BEGIN:VEVENT
DTSTART;TZID=Pacific/Honolulu:20250925T090000
DTEND;TZID=Pacific/Honolulu:20250925T110000
DTSTAMP:20260423T132311
CREATED:20250829T025416Z
LAST-MODIFIED:20250923T021921Z
UID:3960-1758790800-1758798000@aoaowaikikisunset.com
SUMMARY:Board of Directors Meeting
DESCRIPTION:Meeting will be held via Video Conference \nThe Association will be using ZOOM for all future Board Meetings. \nPlease use the following link: \nhttps://zoom.us \nGo to “Join Meeting” \nEnter Meeting ID # 828-9841-1788 \nYou may also download the ZOOM app for ios and Android platforms. \nFor the App: \nMeeting ID # 828-9841-1788 \nWe ask that all owners begin to check in at 8:45am \nPlease identify yourself with your name and unit number \nYou will have to contact the Association Office for the passcode for both applications. \n(808)931-6077 \nMahalo! \nI – Notice Agenda – 2025.09.25
URL:https://aoaowaikikisunset.com/event/board-of-directors-meeting-34/
END:VEVENT
BEGIN:VEVENT
DTSTART;TZID=Pacific/Honolulu:20250828T090000
DTEND;TZID=Pacific/Honolulu:20250828T110000
DTSTAMP:20260423T132311
CREATED:20250725T190038Z
LAST-MODIFIED:20250826T014625Z
UID:3949-1756371600-1756378800@aoaowaikikisunset.com
SUMMARY:Board of Directors Meeting
DESCRIPTION:Meeting will be held via Video Conference \nThe Association will be using ZOOM for all future Board Meetings. \nPlease use the following link: \nhttps://zoom.us \nGo to “Join Meeting” \nEnter Meeting ID # 824-7283-4296 \nYou may also download the ZOOM app for ios and Android platforms. \nFor the App: \nMeeting ID # 824-7283-4296 \nWe ask that all owners begin to check in at 8:45am \nPlease identify yourself with your name and unit number \nYou will have to contact the Association Office for the passcode for both applications. \n(808)931-6077 \nMahalo! \nI – Notice Agenda – 2025.08.28
URL:https://aoaowaikikisunset.com/event/board-of-directors-meeting-33/
END:VEVENT
BEGIN:VEVENT
DTSTART;TZID=Pacific/Honolulu:20250724T090000
DTEND;TZID=Pacific/Honolulu:20250724T110000
DTSTAMP:20260423T132311
CREATED:20250701T184700Z
LAST-MODIFIED:20250722T010203Z
UID:3934-1753347600-1753354800@aoaowaikikisunset.com
SUMMARY:Board of Directors Meeting
DESCRIPTION:Meeting will be held via Video Conference \nThe Association will be using ZOOM for all future Board Meetings. \nPlease use the following link: \nhttps://zoom.us \nGo to “Join Meeting” \nEnter Meeting ID # 824-7283-4296 \nYou may also download the ZOOM app for ios and Android platforms. \nFor the App: \nMeeting ID # 824-7283-4296 \nWe ask that all owners begin to check in at 8:45am \nPlease identify yourself with your name and unit number \nYou will have to contact the Association Office for the passcode for both applications. \n(808)931-6077 \nMahalo! \nI – Notice & Agenda – 2025.7.24
URL:https://aoaowaikikisunset.com/event/board-of-directors-meeting-32/
END:VEVENT
BEGIN:VEVENT
DTSTART;TZID=Pacific/Honolulu:20250626T090000
DTEND;TZID=Pacific/Honolulu:20250626T110000
DTSTAMP:20260423T132311
CREATED:20250522T235441Z
LAST-MODIFIED:20250624T003851Z
UID:3892-1750928400-1750935600@aoaowaikikisunset.com
SUMMARY:Board of Directors Meeting
DESCRIPTION:Meeting will be held via Video Conference \nThe Association will be using ZOOM for all future Board Meetings. \nPlease use the following link: \nhttps://zoom.us \nGo to “Join Meeting” \nEnter Meeting ID # 824-7283-4296 \nYou may also download the ZOOM app for ios and Android platforms. \nFor the App: \nMeeting ID # 824-7283-4296 \nWe ask that all owners begin to check in at 8:45am \nPlease identify yourself with your name and unit number \nYou will have to contact the Association Office for the passcode for both applications. \n(808)931-6077 \nMahalo! \nI – Notice Agenda – 2025.06.26
URL:https://aoaowaikikisunset.com/event/board-of-directors-meeting-31/
END:VEVENT
BEGIN:VEVENT
DTSTART;TZID=Pacific/Honolulu:20250522T090000
DTEND;TZID=Pacific/Honolulu:20250522T110000
DTSTAMP:20260423T132311
CREATED:20250503T040525Z
LAST-MODIFIED:20250519T201649Z
UID:3877-1747904400-1747911600@aoaowaikikisunset.com
SUMMARY:Board of Directors Meeting
DESCRIPTION:Meeting will be held via Video Conference \nThe Association will be using ZOOM for all future Board Meetings. \nPlease use the following link: \nhttps://zoom.us \nGo to “Join Meeting” \nEnter Meeting ID # 824-7283-4296 \nYou may also download the ZOOM app for ios and Android platforms. \nFor the App: \nMeeting ID # 824-7283-4296 \nWe ask that all owners begin to check in at 8:45am \nPlease identify yourself with your name and unit number \nYou will have to contact the Association Office for the passcode for both applications. \n(808)931-6077 \nMahalo! \nI – Notice Agenda – 2025.05.22
URL:https://aoaowaikikisunset.com/event/board-of-directors-meeting-30/
END:VEVENT
BEGIN:VEVENT
DTSTART;TZID=Pacific/Honolulu:20250424T090000
DTEND;TZID=Pacific/Honolulu:20250424T110000
DTSTAMP:20260423T132311
CREATED:20250328T020659Z
LAST-MODIFIED:20250422T011022Z
UID:3861-1745485200-1745492400@aoaowaikikisunset.com
SUMMARY:Board of Directors Meeting
DESCRIPTION:Meeting will be held via Video Conference \nThe Association will be using ZOOM for all future Board Meetings. \nPlease use the following link: \nhttps://zoom.us \nGo to “Join Meeting” \nEnter Meeting ID # 824-7283-4296 \nYou may also download the ZOOM app for ios and Android platforms. \nFor the App: \nMeeting ID # 824-7283-4296 \nWe ask that all owners begin to check in at 8:45am \nPlease identify yourself with your name and unit number \nYou will have to contact the Association Office for the passcode for both applications. \n(808)931-6077 \nMahalo! \nI – Notice Agenda – 2025.04.24 (002)
URL:https://aoaowaikikisunset.com/event/board-of-directors-meeting-29/
END:VEVENT
BEGIN:VEVENT
DTSTART;TZID=Pacific/Honolulu:20250410T140000
DTEND;TZID=Pacific/Honolulu:20250410T150000
DTSTAMP:20260423T132311
CREATED:20250227T201851Z
LAST-MODIFIED:20250227T201851Z
UID:3831-1744293600-1744297200@aoaowaikikisunset.com
SUMMARY:Annual Homeowners Meeting
DESCRIPTION:
URL:https://aoaowaikikisunset.com/event/annual-homeowners-meeting-4/
END:VEVENT
BEGIN:VEVENT
DTSTART;TZID=Pacific/Honolulu:20250327T090000
DTEND;TZID=Pacific/Honolulu:20250327T110000
DTSTAMP:20260423T132311
CREATED:20250227T201746Z
LAST-MODIFIED:20250325T030004Z
UID:3829-1743066000-1743073200@aoaowaikikisunset.com
SUMMARY:Board of Directors Meeting
DESCRIPTION:Meeting will be held via Video Conference \nThe Association will be using ZOOM for all future Board Meetings. \nPlease use the following link: \nhttps://zoom.us \nGo to “Join Meeting” \nEnter Meeting ID # 824-7283-4296 \nYou may also download the ZOOM app for ios and Android platforms. \nFor the App: \nMeeting ID # 824-7283-4296 \nWe ask that all owners begin to check in at 8:45am \nPlease identify yourself with your name and unit number \nYou will have to contact the Association Office for the passcode for both applications. \n(808)931-6077 \nMahalo! \nI – Notice Agenda – 2025.03.27 r2
URL:https://aoaowaikikisunset.com/event/board-of-directors-meeting-28/
END:VEVENT
BEGIN:VEVENT
DTSTART;TZID=Pacific/Honolulu:20250227T090000
DTEND;TZID=Pacific/Honolulu:20250227T110000
DTSTAMP:20260423T132311
CREATED:20250124T041401Z
LAST-MODIFIED:20250222T040534Z
UID:3814-1740646800-1740654000@aoaowaikikisunset.com
SUMMARY:Board of Directors Meeting
DESCRIPTION:Meeting will be held via Video Conference \nThe Association will be using ZOOM for all future Board Meetings. \nPlease use the following link: \nhttps://zoom.us \nGo to “Join Meeting” \nEnter Meeting ID # 824-7283-4296 \nYou may also download the ZOOM app for ios and Android platforms. \nFor the App: \nMeeting ID # 824-7283-4296 \nWe ask that all owners begin to check in at 8:45am \nPlease identify yourself with your name and unit number \nYou will have to contact the Association Office for the passcode for both applications. \n(808)931-6077 \nMahalo! \nI – Notice Agenda – 2025.02.27
URL:https://aoaowaikikisunset.com/event/board-of-directors-meeting-27/
END:VEVENT
BEGIN:VEVENT
DTSTART;TZID=Pacific/Honolulu:20250131T090000
DTEND;TZID=Pacific/Honolulu:20250131T110000
DTSTAMP:20260423T132311
CREATED:20250124T041600Z
LAST-MODIFIED:20250124T041600Z
UID:3816-1738314000-1738321200@aoaowaikikisunset.com
SUMMARY:Building Water Shutdown
DESCRIPTION:Building Water Shutdown Notice 13125 ENG JPN
URL:https://aoaowaikikisunset.com/event/building-water-shutdown-3/
END:VEVENT
BEGIN:VEVENT
DTSTART;TZID=Pacific/Honolulu:20250123T090000
DTEND;TZID=Pacific/Honolulu:20250123T110000
DTSTAMP:20260423T132311
CREATED:20241212T215736Z
LAST-MODIFIED:20250120T194341Z
UID:3776-1737622800-1737630000@aoaowaikikisunset.com
SUMMARY:**Board of Directors Meeting**
DESCRIPTION:Meeting will be held via Video Conference \nThe Association will be using ZOOM for all future Board Meetings. \nPlease use the following link: \nhttps://zoom.us \nGo to “Join Meeting” \nEnter Meeting ID # 824-7283-4296 \nYou may also download the ZOOM app for ios and Android platforms. \nFor the App: \nMeeting ID # 824-7283-4296 \nWe ask that all owners begin to check in at 8:45am \nPlease identify yourself with your name and unit number \nYou will have to contact the Association Office for the passcode for both applications. \n(808)931-6077 \nMahalo! \nI – Notice Agenda – 2025.01.23
URL:https://aoaowaikikisunset.com/event/board-of-directors-meeting-26/
END:VEVENT
BEGIN:VEVENT
DTSTART;TZID=Pacific/Honolulu:20250103T080000
DTEND;TZID=Pacific/Honolulu:20250103T170000
DTSTAMP:20260423T132311
CREATED:20241228T020638Z
LAST-MODIFIED:20241228T020638Z
UID:3788-1735891200-1735923600@aoaowaikikisunset.com
SUMMARY:**Window Cleaning**
DESCRIPTION:
URL:https://aoaowaikikisunset.com/event/window-cleaning-9/
END:VEVENT
BEGIN:VEVENT
DTSTART;TZID=Pacific/Honolulu:20250102T080000
DTEND;TZID=Pacific/Honolulu:20250102T170000
DTSTAMP:20260423T132311
CREATED:20241228T020608Z
LAST-MODIFIED:20241228T020608Z
UID:3786-1735804800-1735837200@aoaowaikikisunset.com
SUMMARY:**Window Cleaning**
DESCRIPTION:
URL:https://aoaowaikikisunset.com/event/window-cleaning-8/
END:VEVENT
BEGIN:VEVENT
DTSTART;TZID=Pacific/Honolulu:20241231T080000
DTEND;TZID=Pacific/Honolulu:20241231T170000
DTSTAMP:20260423T132311
CREATED:20241228T020503Z
LAST-MODIFIED:20241228T020503Z
UID:3784-1735632000-1735664400@aoaowaikikisunset.com
SUMMARY:**Window Cleaning**
DESCRIPTION:
URL:https://aoaowaikikisunset.com/event/window-cleaning-7/
END:VEVENT
BEGIN:VEVENT
DTSTART;TZID=Pacific/Honolulu:20241230T080000
DTEND;TZID=Pacific/Honolulu:20241230T170000
DTSTAMP:20260423T132311
CREATED:20241228T020440Z
LAST-MODIFIED:20241228T020440Z
UID:3782-1735545600-1735578000@aoaowaikikisunset.com
SUMMARY:**Window Cleaning**
DESCRIPTION:
URL:https://aoaowaikikisunset.com/event/window-cleaning-6/
END:VEVENT
BEGIN:VEVENT
DTSTART;TZID=Pacific/Honolulu:20241218T090000
DTEND;TZID=Pacific/Honolulu:20241218T170000
DTSTAMP:20260423T132311
CREATED:20241210T050431Z
LAST-MODIFIED:20241210T050431Z
UID:3774-1734512400-1734541200@aoaowaikikisunset.com
SUMMARY:Building Water Shutdown
DESCRIPTION:Hot Water System Upgrade Project – Building Water Shutdown Notice 12.18.2024
URL:https://aoaowaikikisunset.com/event/building-water-shutdown-2/
END:VEVENT
BEGIN:VEVENT
DTSTART;TZID=Pacific/Honolulu:20241212T090000
DTEND;TZID=Pacific/Honolulu:20241212T110000
DTSTAMP:20260423T132311
CREATED:20241024T201806Z
LAST-MODIFIED:20241210T045952Z
UID:3755-1733994000-1734001200@aoaowaikikisunset.com
SUMMARY:*Board of Directors Meeting*
DESCRIPTION:Meeting will be held via Video Conference \nThe Association will be using ZOOM for all future Board Meetings. \nPlease use the following link: \nhttps://zoom.us \nGo to “Join Meeting” \nEnter Meeting ID # 811-2105-3882 \nYou may also download the ZOOM app for ios and Android platforms. \nFor the App: \nMeeting ID # 811-2105-3882 \nWe ask that all owners begin to check in at 8:45am \nPlease identify yourself with your name and unit number \nYou will have to contact the Association Office for the passcode for both applications. \n(808)931-6077 \nMahalo! \nII – Notice Agenda – 2024.12.12
URL:https://aoaowaikikisunset.com/event/board-of-directors-meeting-25/
END:VEVENT
BEGIN:VEVENT
DTSTART;TZID=Pacific/Honolulu:20241024T090000
DTEND;TZID=Pacific/Honolulu:20241024T110000
DTSTAMP:20260423T132311
CREATED:20240926T221920Z
LAST-MODIFIED:20241019T035741Z
UID:3736-1729760400-1729767600@aoaowaikikisunset.com
SUMMARY:Board Of Directors Meeting
DESCRIPTION:Meeting will be held via Video Conference \nThe Association will be using ZOOM for all future Board Meetings. \nPlease use the following link: \nhttps://zoom.us \nGo to “Join Meeting” \nEnter Meeting ID # 829-1484-2162 \nYou may also download the ZOOM app for ios and Android platforms. \nFor the App: \nMeeting ID # 829-1484-2162 \nWe ask that all owners begin to check in at 8:45am \nPlease identify yourself with your name and unit number \nYou will have to contact the Association Office for the passcode for both applications. \n(808)931-6077 \nMahalo! \nI – Notice & Agenda – 2024.10.24
URL:https://aoaowaikikisunset.com/event/board-of-directors-meeting-24/
END:VEVENT
BEGIN:VEVENT
DTSTART;TZID=Pacific/Honolulu:20240926T090000
DTEND;TZID=Pacific/Honolulu:20240926T110000
DTSTAMP:20260423T132311
CREATED:20240830T195207Z
LAST-MODIFIED:20240921T015118Z
UID:3687-1727341200-1727348400@aoaowaikikisunset.com
SUMMARY:Board of Directors Meeting
DESCRIPTION:Meeting will be held via Video Conference \nThe Association will be using ZOOM for all future Board Meetings. \nPlease use the following link: \nhttps://zoom.us \nGo to “Join Meeting” \nEnter Meeting ID # 844-8288-0766 \nYou may also download the ZOOM app for ios and Android platforms. \nFor the App: \nMeeting ID # 844-8288-0766 \nWe ask that all owners begin to check in at 8:45pm \nPlease identify yourself with your name and unit number \nYou will have to contact the Association Office for the passcode for both applications. \n(808)931-6077 \nMahalo! \nI – Agenda – 2024.9.26
URL:https://aoaowaikikisunset.com/event/board-of-directors-meeting-23/
END:VEVENT
BEGIN:VEVENT
DTSTART;TZID=Pacific/Honolulu:20240923T080000
DTEND;TZID=Pacific/Honolulu:20240927T160000
DTSTAMP:20260423T132311
CREATED:20240916T215923Z
LAST-MODIFIED:20240916T215923Z
UID:3721-1727078400-1727452800@aoaowaikikisunset.com
SUMMARY:*Window Cleaning*
DESCRIPTION:
URL:https://aoaowaikikisunset.com/event/window-cleaning-5/
END:VEVENT
BEGIN:VEVENT
DTSTART;TZID=Pacific/Honolulu:20240920T080000
DTEND;TZID=Pacific/Honolulu:20240920T150000
DTSTAMP:20260423T132311
CREATED:20240916T215821Z
LAST-MODIFIED:20240916T215821Z
UID:3719-1726819200-1726844400@aoaowaikikisunset.com
SUMMARY:*Fire Alarm Testing*
DESCRIPTION:Honeywell Fire Alarm Testing 09.19-09.20.2024
URL:https://aoaowaikikisunset.com/event/fire-alarm-testing-2/
END:VEVENT
END:VCALENDAR