BEGIN:VCALENDAR
VERSION:2.0
PRODID:-//AOAO Waikiki Sunset - ECPv6.13.2.1//NONSGML v1.0//EN
CALSCALE:GREGORIAN
METHOD:PUBLISH
X-ORIGINAL-URL:https://aoaowaikikisunset.com
X-WR-CALDESC:Events for AOAO Waikiki Sunset
REFRESH-INTERVAL;VALUE=DURATION:PT1H
X-Robots-Tag:noindex
X-PUBLISHED-TTL:PT1H
BEGIN:VTIMEZONE
TZID:Pacific/Honolulu
BEGIN:STANDARD
TZOFFSETFROM:-1000
TZOFFSETTO:-1000
TZNAME:HST
DTSTART:20240101T000000
END:STANDARD
END:VTIMEZONE
BEGIN:VEVENT
DTSTART;TZID=Pacific/Honolulu:20240919T080000
DTEND;TZID=Pacific/Honolulu:20240919T150000
DTSTAMP:20260424T071145
CREATED:20240916T215742Z
LAST-MODIFIED:20240916T215742Z
UID:3717-1726732800-1726758000@aoaowaikikisunset.com
SUMMARY:*Fire Alarm Testing*
DESCRIPTION:Honeywell Fire Alarm Testing 09.19-09.20.2024
URL:https://aoaowaikikisunset.com/event/fire-alarm-testing/
END:VEVENT
END:VCALENDAR