BEGIN:VCALENDAR
VERSION:2.0
PRODID:-//AOAO Waikiki Sunset - ECPv6.13.2.1//NONSGML v1.0//EN
CALSCALE:GREGORIAN
METHOD:PUBLISH
X-WR-CALNAME:AOAO Waikiki Sunset
X-ORIGINAL-URL:https://aoaowaikikisunset.com
X-WR-CALDESC:Events for AOAO Waikiki Sunset
REFRESH-INTERVAL;VALUE=DURATION:PT1H
X-Robots-Tag:noindex
X-PUBLISHED-TTL:PT1H
BEGIN:VTIMEZONE
TZID:Pacific/Honolulu
BEGIN:STANDARD
TZOFFSETFROM:-1000
TZOFFSETTO:-1000
TZNAME:HST
DTSTART:20240101T000000
END:STANDARD
END:VTIMEZONE
BEGIN:VEVENT
DTSTART;TZID=Pacific/Honolulu:20240806T083000
DTEND;TZID=Pacific/Honolulu:20240806T163000
DTSTAMP:20260424T084645
CREATED:20240730T043517Z
LAST-MODIFIED:20240803T050624Z
UID:3637-1722933000-1722961800@aoaowaikikisunset.com
SUMMARY:Building Power Outage
DESCRIPTION:Power Outage Notice 08.06.24-08.09.24 rev 080224
URL:https://aoaowaikikisunset.com/event/building-power-outage-4/
END:VEVENT
END:VCALENDAR