BEGIN:VCALENDAR
VERSION:2.0
PRODID:-//AOAO Waikiki Sunset - ECPv6.13.2.1//NONSGML v1.0//EN
CALSCALE:GREGORIAN
METHOD:PUBLISH
X-ORIGINAL-URL:https://aoaowaikikisunset.com
X-WR-CALDESC:Events for AOAO Waikiki Sunset
REFRESH-INTERVAL;VALUE=DURATION:PT1H
X-Robots-Tag:noindex
X-PUBLISHED-TTL:PT1H
BEGIN:VTIMEZONE
TZID:Pacific/Honolulu
BEGIN:STANDARD
TZOFFSETFROM:-1000
TZOFFSETTO:-1000
TZNAME:HST
DTSTART:20230101T000000
END:STANDARD
END:VTIMEZONE
BEGIN:VEVENT
DTSTART;TZID=Pacific/Honolulu:20231002T080000
DTEND;TZID=Pacific/Honolulu:20240311T170000
DTSTAMP:20260424T162715
CREATED:20230928T194514Z
LAST-MODIFIED:20230928T194514Z
UID:3371-1696233600-1710176400@aoaowaikikisunset.com
SUMMARY:**DWV Project - Phase 5 Begins**
DESCRIPTION:DWV Project – Phase 5 Notice 10.02.2023
URL:https://aoaowaikikisunset.com/event/dwv-project-phase-5-begins/
END:VEVENT
BEGIN:VEVENT
DTSTART;TZID=Pacific/Honolulu:20240302T100000
DTEND;TZID=Pacific/Honolulu:20240302T110000
DTSTAMP:20260424T162715
CREATED:20240217T011129Z
LAST-MODIFIED:20240222T023029Z
UID:3470-1709373600-1709377200@aoaowaikikisunset.com
SUMMARY:FCU Project Town Hall Meeting
DESCRIPTION:HPG will hold an informational town hall meeting on Saturday\, March 2\, 2024 at 10:00AM via Zoom. To receive a link please email us at info@hawaiiplumbinggroup.com or visit the project website at: https://waikikisunset.hawaiiplumbinggroup.com/ password: aloha!  \nJoin Zoom Meeting https://us06web.zoom.us/j/86297330455?pwd=GYOaL79gwJpNXisv9deBor5CKuEXNb.1 \nMeeting ID: 862 9733 0455 \nPasscode: 743649\n  \nHPGは、2024年3月2日（土）10:00amよりZoomにてタウンホールミーティングを開催します。リンクをご希望の方は info@hawaiiplumbinggroup.com までEメールでご連絡いただくか、プロジェクトのウェブサイト https://waikikisunset.hawaiiplumbinggroup.com/ パスワード：aloha!、をご覧下さい。 \nZoomミーティングに参加\nhttps://us06web.zoom.us/j/86297330455?pwd=GYOaL79gwJpNXisv9deBor5CKuEXNb.1\nミーティングID： 862 9733 0455\nパスコード： 743649
URL:https://aoaowaikikisunset.com/event/fcu-project-town-hall-meeting/
END:VEVENT
END:VCALENDAR