BEGIN:VCALENDAR
VERSION:2.0
PRODID:-//AOAO Waikiki Sunset - ECPv6.13.2.1//NONSGML v1.0//EN
CALSCALE:GREGORIAN
METHOD:PUBLISH
X-WR-CALNAME:AOAO Waikiki Sunset
X-ORIGINAL-URL:https://aoaowaikikisunset.com
X-WR-CALDESC:Events for AOAO Waikiki Sunset
REFRESH-INTERVAL;VALUE=DURATION:PT1H
X-Robots-Tag:noindex
X-PUBLISHED-TTL:PT1H
BEGIN:VTIMEZONE
TZID:Pacific/Honolulu
BEGIN:STANDARD
TZOFFSETFROM:-1000
TZOFFSETTO:-1000
TZNAME:HST
DTSTART:20230101T000000
END:STANDARD
END:VTIMEZONE
BEGIN:VEVENT
DTSTART;TZID=Pacific/Honolulu:20230911T080000
DTEND;TZID=Pacific/Honolulu:20230915T160000
DTSTAMP:20260425T013647
CREATED:20230909T024322Z
LAST-MODIFIED:20230909T024526Z
UID:3326-1694419200-1694793600@aoaowaikikisunset.com
SUMMARY:Notice of Power Outage 09.11.2023 - 09.15.2023
DESCRIPTION:Waikiki Sunset Power Outage Notice 09.11.23-09.15.2023 FNL
URL:https://aoaowaikikisunset.com/event/notice-of-power-outage-09-11-2023-09-15-2023/
END:VEVENT
BEGIN:VEVENT
DTSTART;TZID=Pacific/Honolulu:20230911T080000
DTEND;TZID=Pacific/Honolulu:20230915T160000
DTSTAMP:20260425T013647
CREATED:20230909T024746Z
LAST-MODIFIED:20230909T024825Z
UID:3332-1694419200-1694793600@aoaowaikikisunset.com
SUMMARY:Window Cleaning
DESCRIPTION:Window Cleaning Notice 09.11.2023 – 09.15.2023
URL:https://aoaowaikikisunset.com/event/window-cleaning-3/
END:VEVENT
END:VCALENDAR