BEGIN:VCALENDAR
VERSION:2.0
PRODID:-//AOAO Waikiki Sunset - ECPv6.13.2.1//NONSGML v1.0//EN
CALSCALE:GREGORIAN
METHOD:PUBLISH
X-WR-CALNAME:AOAO Waikiki Sunset
X-ORIGINAL-URL:https://aoaowaikikisunset.com
X-WR-CALDESC:Events for AOAO Waikiki Sunset
REFRESH-INTERVAL;VALUE=DURATION:PT1H
X-Robots-Tag:noindex
X-PUBLISHED-TTL:PT1H
BEGIN:VTIMEZONE
TZID:Pacific/Honolulu
BEGIN:STANDARD
TZOFFSETFROM:-1000
TZOFFSETTO:-1000
TZNAME:HST
DTSTART:20230101T000000
END:STANDARD
END:VTIMEZONE
BEGIN:VEVENT
DTSTART;TZID=Pacific/Honolulu:20230905T080000
DTEND;TZID=Pacific/Honolulu:20230908T160000
DTSTAMP:20260425T013649
CREATED:20230909T024212Z
LAST-MODIFIED:20230909T024458Z
UID:3323-1693900800-1694188800@aoaowaikikisunset.com
SUMMARY:Notice of Power Outage 09.05.2023-09.08.2023
DESCRIPTION:Power Outage flyer 09.05.23-09.08.2023 Rev08.16.23
URL:https://aoaowaikikisunset.com/event/notice-of-power-outage-09-05-2023-09-08-2023/
END:VEVENT
END:VCALENDAR