BEGIN:VCALENDAR
VERSION:2.0
PRODID:-//AOAO Waikiki Sunset - ECPv6.13.2.1//NONSGML v1.0//EN
CALSCALE:GREGORIAN
METHOD:PUBLISH
X-ORIGINAL-URL:https://aoaowaikikisunset.com
X-WR-CALDESC:Events for AOAO Waikiki Sunset
REFRESH-INTERVAL;VALUE=DURATION:PT1H
X-Robots-Tag:noindex
X-PUBLISHED-TTL:PT1H
BEGIN:VTIMEZONE
TZID:Pacific/Honolulu
BEGIN:STANDARD
TZOFFSETFROM:-1000
TZOFFSETTO:-1000
TZNAME:HST
DTSTART:20220101T000000
END:STANDARD
END:VTIMEZONE
BEGIN:VEVENT
DTSTART;TZID=Pacific/Honolulu:20221217T100000
DTEND;TZID=Pacific/Honolulu:20221217T113000
DTSTAMP:20260425T145749
CREATED:20221215T010206Z
LAST-MODIFIED:20221215T010454Z
UID:3118-1671271200-1671276600@aoaowaikikisunset.com
SUMMARY:**Townhall Meeting - Electrical Distribution Project**
DESCRIPTION:December 14\, 2022 \n  \nAloha Waikiki Sunset Owners ~ \n  \nThis Saturday\, December 17\, 2022 at 10:00am we will be having a Townhall Meeting for our upcoming Electrical Distribution Project\, which will be starting in the later half of January 2023. \n  \nAmerican Electric has been hired to complete the project with Bergeman Group as our overall Construction Management advisor. We will look forward to your attendance. \n  \nThe meeting will be held via Zoom\, please see meeting ID and Passcode below: \n  \nMeeting ID: 841-6037-0083 \nPasscode: 350662 \n  \n  \nSincerely\, \n  \nThe Waikiki Sunset Association Office \n  \n2022年12月14日 \n  \nアロハ ワイキキサンセットのオーナーの皆様 \n  \n2022年12月17日（土）午前10時より、2023年1月後半から始まる配電プロジェクトのタウンホールミーティングが開催されます。 \n  \n本プロジェクトは、建設経営管理（CM）全般のアドバイザーを務めるバーグマングループ社とともにアメリカン・エレクトリック社が担当します。皆様のタウンホールミーティングへのご参加をお待ちしております。 \n  \nミーティングはZoomで行いますので、以下のIDとパスコードをご確認ください。 \n  \nミーティングID： 841-6037-0083 \nパスコード： 350662 \n  \nよろしくお願いいたします。 \n  \nワイキキサンセット所有者組合事務所
URL:https://aoaowaikikisunset.com/event/townhall-meeting-electrical-distribution-project/
END:VEVENT
END:VCALENDAR